BEGIN:VCALENDAR
VERSION:2.0
PRODID:-//Extinction Rebellion Boston//Action//
BEGIN:VEVENT
SUMMARY:[Solidarity Action] Caught Red Handed: Bunge and the Directors of 
 Deforestation
DTSTART:20220505T160000Z
DTEND:20220505T180000Z
DTSTAMP:20260421T102253Z
UID:1168@https://xrboston.org
CREATED:20260421T102253Z
DESCRIPTION:Event details: https://xrboston.org/action/2022-may-05-caught-
 red-handed/\n\nFrom Friends of the Earth: \n**What:**\nDirect action\, mix
 ed with a little street theater and creative storytelling to demonstrate t
 he urgency behind holding Bunge Ltd. accountable for their soy-driven defo
 restation and human rights abuses. We demand State Street Global Advisors 
 to put their money where their mouth is and hold Bunge accountable!\n\n**W
 hy State Street\, why this action?**\nState Street\, the world’s 3rd lar
 gest asset manager announced a plan for robust due diligence on investee c
 ompanies in their portfolio with exposure to deforestation risk stemming f
 rom their supply chain. This announcement came after consultation with com
 panies and stakeholders\, including Friends of the Earth U.S.\nWe can prov
 e that one of State Street's investee companies\, Bunge Limited\, is guilt
 y of enabling illegal deforestation in Brazil’s Cerrado\, the world’s 
 most biodiverse tropical savanna. Bunge has failed to implement a 2021 sha
 reholder resolution that pressed the company to halt soy-driven deforestat
 ion in the Cerrado region of Brazil\, a biodiversity hotspot that is under
  severe threat from corporate greed and destruction.\nWe demand State Stre
 et VOTE NO to reinstate Bunge’s Board Chair for failing to address the u
 rgency of the climate\, deforestation\, and human rights crisis.\n\n**Why 
 now?**\nBunge's Annual General Meeting will be held virtually May 12\, and
  we need State Street--the 3rd largest asset manager in the world--to take
  action immediately and VOTE NO to reinstate Bunge’s Board Chair before 
 May 12.\nFor more info contact Britten at bevans at foe.org
LAST-MODIFIED:20220430T143225Z
LOCATION:1 Lincoln Street\, Boston\, MA
ORGANIZER;CN="Extinction Rebellion Boston":MAILTO:outreach@xrboston.org
URL:https://xrboston.org/action/2022-may-05-caught-red-handed/
END:VEVENT
END:VCALENDAR
