BEGIN:VCALENDAR
VERSION:2.0
PRODID:-//Extinction Rebellion Boston//Action//
BEGIN:VEVENT
SUMMARY:Drop-in Art Build 4pm - 7pm
DTSTART:20230411T200000Z
DTEND:20230411T220000Z
DTSTAMP:20260421T115948Z
UID:1493@https://xrboston.org
CREATED:20260421T115948Z
DESCRIPTION:Event details: https://xrboston.org/action/2023-04-11-art-buil
 d/\n\nDrop in  on Tuesday the 11th between 4 pm - 7 pm for another weekly 
 art buiild session!  \n\nNOTE: It's an earlier time slot so we can also go
  to Beers and Climate Change :)\nWe'll be at the Puppet Free Library in th
 e Back Bay preparing for our Earth Day weekend event on 4/21.  We will sup
 ply the materials\, you bring your ideas\, enthusiasm and love for our pla
 net. (art skills not necessary!)
LAST-MODIFIED:20230407T094636Z
LOCATION:Puppet Free Library\, Boston\, MA
ORGANIZER;CN="Extinction Rebellion Boston":MAILTO:outreach@xrboston.org
URL:https://xrboston.org/action/2023-04-11-art-build/
END:VEVENT
END:VCALENDAR
