BEGIN:VCALENDAR
VERSION:2.0
PRODID:-//Extinction Rebellion Boston//Action//
BEGIN:VEVENT
SUMMARY:Week of Rest House Party
DTSTART:20241011T220000Z
DTEND:20241012T000000Z
DTSTAMP:20260425T165219Z
UID:1903@https://xrboston.org
CREATED:20260425T165219Z
DESCRIPTION:Event details: https://xrboston.org/action/2024-week-of-rest-h
 ouse-party/\n\nJoin us for dinner and dancing as we rest from and celebrat
 e XR's third annual Week of Rebellion!\n\n6:00 PM: Doors open\, food on ta
 ble\, chill dinner party vibes.\n8:00 PM: Dining room cleared into a dance
  floor\, and things get lit.\n10:00 PM: We play that "you don't have to go
  home\, but you can't stay here" song.\n\nThe exact address will be sent o
 ut to RSVPs.\n\nFeel free to bring a dish/drink/snack\, but it is by no me
 ans required! \n\nIn case people have allergies\, there are two dogs in th
 e house.
LAST-MODIFIED:20241014T163135Z
LOCATION:Home near West Medford\, RSVP for location
ORGANIZER;CN="Extinction Rebellion Boston":MAILTO:outreach@xrboston.org
URL:https://xrboston.org/action/2024-week-of-rest-house-party/
END:VEVENT
END:VCALENDAR
