BEGIN:VCALENDAR
VERSION:2.0
PRODID:-//Extinction Rebellion Boston//Action//
BEGIN:VEVENT
SUMMARY:2026 Budget Priorities - Finance Working Group
DTSTART:20251106T223000Z
DTEND:20251107T003000Z
DTSTAMP:20260420T084203Z
UID:2177@https://xrboston.org
CREATED:20260420T084203Z
DESCRIPTION:Join online: <a href="https://meet.jit.si/XRBudgetPriorities20
 26">https://meet.jit.si/XRBudgetPriorities2026</a>\n\nEvent details: <a hr
 ef="https://xrboston.org/action/2026-budget-priorities-finance-working-gro
 up/">https://xrboston.org/action/2026-budget-priorities-finance-working-gr
 oup/</a>\n\nThe newly formed **XR Boston Finance Working Group** is collec
 ting community input on the **budget priorities for 2026**. Come join us f
 or a discussion of what our budget has looked like for 2025 and share your
  thoughts around where we can allocate funding next year to have the most 
 impact for XR.\n\nBased on the results of the community input\, we will be
  drafing a budget for 2026 and approving the budget with Spokescouncil. \n
 \nIf you would like to give feedback but can't attend this meeting\, pleas
 e fill out this form: [FORM](https://cryptpad.fr/form/#/2/form/view/lcoOKu
 Q711BFImuiFmpLV4L8wpv6UiSANzl38ndqS7o)\n\nEstimated duration: 1.5 hours\n\
 n-::~:~::~:~:~:~:~:~:~:~:~:~:~:~:~:~:~:~:~:~:~:~:~:~:~:~:~:~:~:~:~:~:~:~:~
 :~:~:~::~:~::-\nDo not edit this section of the description.\n\nThis event
  has a video call.\nJoin: https://meet.jit.si/XRBudgetPriorities2026\n\nVi
 ew your event at https://xrboston.org/action/2026-budget-priorities-financ
 e-working-group/\n-::~:~::~:~:~:~:~:~:~:~:~:~:~:~:~:~:~:~:~:~:~:~:~:~:~:~:
 ~:~:~:~:~:~:~:~:~:~:~:~::~:~::-
LAST-MODIFIED:20251016T214606Z
LOCATION:Online event
ORGANIZER;CN="Extinction Rebellion Boston":MAILTO:outreach@xrboston.org
URL:https://xrboston.org/action/2026-budget-priorities-finance-working-gro
 up/
END:VEVENT
END:VCALENDAR
