BEGIN:VCALENDAR
VERSION:2.0
PRODID:-//Extinction Rebellion Boston//Action//
BEGIN:VEVENT
SUMMARY:[Solidarity Action] Awakening For Earth: Active Hope Training
DTSTART:20220213T153000Z
DTEND:20220213T173000Z
DTSTAMP:20260425T034910Z
UID:1027@https://xrboston.org
CREATED:20260425T034910Z
DESCRIPTION:Join online: <a href="https://us02web.zoom.us/j/85379287753?pw
 d=Tkl0K09VaHhmTFBIOEd3QlM1U3Y3Zz09">https://us02web.zoom.us/j/85379287753?
 pwd=Tkl0K09VaHhmTFBIOEd3QlM1U3Y3Zz09</a>\n\nEvent details: <a href="https:
 //xrboston.org/action/active-hope-joanna-macy/">https://xrboston.org/actio
 n/active-hope-joanna-macy/</a>\n\nJoin [Awakening For Earth](awakeningfore
 arth.com) for [Active Hope training](https://activehope.training). This is
  the fourth of seven trainings. Feel free to come even if you missed previ
 ous weeks.\n\nActive Hope is a training designed by Joanna Macy and Chris 
 Johnstone to strengthen our ability to make a difference in the world. Awa
 kening For Earth will dedicate seven ‘Sitting for Survival’ Sundays to
  explore this training together.\n\nJoin us as we learn ways to nourish ou
 r capacity to face the many challenges of our time…from systemic racism 
 to ecological destruction.\n\nIf you want to learn more about this work\, 
 you are encouraged to subscribe to the free Active Hope training\, or just
  drop in and check it out with us! The training is designed to be flexible
  so we’re seeing this as a community exploration.\n\n-----\n\n*Purifying
  our hearts of greed\, hatred\, and delusion\, we bless each other and gen
 erate a communal power and resilience that can effectively meet the daunti
 ng challenges that threaten our world.*\n--Kittisaro \n\n**When:** Every S
 unday\, January 23-March 6\, 10:30am-12noon\n\n**Where:** Recurring[ zoom 
 link here](https://us02web.zoom.us/j/85379287753?pwd=Tkl0K09VaHhmTFBIOEd3Q
 lM1U3Y3Zz09)\nMeeting ID: 853 7928 7753 Passcode: 304404\n\nYou can also s
 ign up for their mailing list at awakeningforearth.com.\n\n-::~:~::~:~:~:~
 :~:~:~:~:~:~:~:~:~:~:~:~:~:~:~:~:~:~:~:~:~:~:~:~:~:~:~:~:~:~:~:~::~:~::-\n
 Do not edit this section of the description.\n\nThis event has a video cal
 l.\nJoin: https://us02web.zoom.us/j/85379287753?pwd=Tkl0K09VaHhmTFBIOEd3Ql
 M1U3Y3Zz09\n\nView your event at https://xrboston.org/action/active-hope-j
 oanna-macy/\n-::~:~::~:~:~:~:~:~:~:~:~:~:~:~:~:~:~:~:~:~:~:~:~:~:~:~:~:~:~
 :~:~:~:~:~:~:~:~:~::~:~::-
LAST-MODIFIED:20220117T213005Z
LOCATION:Online event
ORGANIZER;CN="Extinction Rebellion Boston":MAILTO:outreach@xrboston.org
URL:https://xrboston.org/action/active-hope-joanna-macy/
END:VEVENT
END:VCALENDAR
