BEGIN:VCALENDAR
VERSION:2.0
PRODID:-//Extinction Rebellion Boston//Action//
BEGIN:VEVENT
SUMMARY:[Solidarity Action] Awakening For Earth: Active Hope Training
DTSTART:20220227T153000Z
DTEND:20220227T173000Z
DTSTAMP:20260425T034753Z
UID:1042@https://xrboston.org
CREATED:20260425T034753Z
DESCRIPTION:Join online: <a href="https://us02web.zoom.us/j/85379287753?pw
 d=Tkl0K09VaHhmTFBIOEd3QlM1U3Y3Zz09">https://us02web.zoom.us/j/85379287753?
 pwd=Tkl0K09VaHhmTFBIOEd3QlM1U3Y3Zz09</a>\n\nEvent details: <a href="https:
 //xrboston.org/action/active-hope-training/">https://xrboston.org/action/a
 ctive-hope-training/</a>\n\nJoin [Awakening For Earth](awakeningforearth.c
 om) for [Active Hope training](https://activehope.training). This is the s
 ixth of seven trainings. Feel free to come even if you missed previous wee
 ks.\n\nActive Hope is a training designed by Joanna Macy and Chris Johnsto
 ne to strengthen our ability to make a difference in the world. Awakening 
 For Earth will dedicate seven ‘Sitting for Survival’ Sundays to explor
 e this training together.\n\nJoin us as we learn ways to nourish our capac
 ity to face the many challenges of our time…from systemic racism to ecol
 ogical destruction.\n\nIf you want to learn more about this work\, you are
  encouraged to subscribe to the free Active Hope training\, or just drop i
 n and check it out with us! The training is designed to be flexible so we
 ’re seeing this as a community exploration.\n\n-----\n\n*Purifying our h
 earts of greed\, hatred\, and delusion\, we bless each other and generate 
 a communal power and resilience that can effectively meet the daunting cha
 llenges that threaten our world.*\n--Kittisaro \n\n**When:** Every Sunday\
 , January 23-March 6\, 10:30am-12noon\n\n**Where:** Recurring[ zoom link h
 ere](https://us02web.zoom.us/j/85379287753?pwd=Tkl0K09VaHhmTFBIOEd3QlM1U3Y
 3Zz09)\nMeeting ID: 853 7928 7753 Passcode: 304404\n\nYou can also sign up
  for their mailing list at awakeningforearth.com.\n\n-::~:~::~:~:~:~:~:~:~
 :~:~:~:~:~:~:~:~:~:~:~:~:~:~:~:~:~:~:~:~:~:~:~:~:~:~:~:~:~::~:~::-\nDo not
  edit this section of the description.\n\nThis event has a video call.\nJo
 in: https://us02web.zoom.us/j/85379287753?pwd=Tkl0K09VaHhmTFBIOEd3QlM1U3Y3
 Zz09\n\nView your event at https://xrboston.org/action/active-hope-trainin
 g/\n-::~:~::~:~:~:~:~:~:~:~:~:~:~:~:~:~:~:~:~:~:~:~:~:~:~:~:~:~:~:~:~:~:~:
 ~:~:~:~:~::~:~::-
LAST-MODIFIED:20220117T213101Z
LOCATION:Online event
ORGANIZER;CN="Extinction Rebellion Boston":MAILTO:outreach@xrboston.org
URL:https://xrboston.org/action/active-hope-training/
END:VEVENT
END:VCALENDAR
