BEGIN:VCALENDAR
VERSION:2.0
PRODID:-//Extinction Rebellion Boston//Action//
BEGIN:VEVENT
SUMMARY:Animal Themed Art Build
DTSTART:20220731T200000Z
DTEND:20220731T220000Z
DTSTAMP:20260419T182139Z
UID:1244@https://xrboston.org
CREATED:20260419T182139Z
DESCRIPTION:Event details: https://xrboston.org/action/animal-themed-art-b
 uild/\n\nCome join us at the Puppet Free Library on Sunday\, July 31\, fro
 m 4:00pm to 6:30pm as we make art to save the planet. \n\nWe will be makin
 g animal masks at this family friendly event for the upcoming animal theme
 d Die-In on August 2nd as well as art for the September Week of Rebellion.
  The Puppet Free Library is a puppet lending library so you can also borro
 w some animal puppets for the Die-In.\n\nArt materials and drinks will be 
 provided. Everyone is welcome\, whether you have an art background or not.
LAST-MODIFIED:20220731T024554Z
LOCATION:Puppet Free Library Boston
ORGANIZER;CN="Extinction Rebellion Boston":MAILTO:outreach@xrboston.org
URL:https://xrboston.org/action/animal-themed-art-build/
END:VEVENT
END:VCALENDAR
