BEGIN:VCALENDAR
VERSION:2.0
PRODID:-//Extinction Rebellion Boston//Action//
BEGIN:VEVENT
SUMMARY:April General Meeting
DTSTART:20250412T183000Z
DTEND:20250412T203000Z
DTSTAMP:20260424T043957Z
UID:2011@https://xrboston.org
CREATED:20260424T043957Z
DESCRIPTION:Event details: https://xrboston.org/action/april-general-meeti
 ng-2025/\n\nAll are welcome at XR Boston's monthly General Meeting\, a cha
 nce to connect with our community and learn more about our movement.\n\nIf
  you are arriving late\, the door may be locked...please call the number p
 osted on the front door!\n\nSchedule:\n\n2:30 - 3:15: Socializing and shar
 ing food.\n\n3:15 - 4:00: Circle up and group activity. This month\, we'll
  have an update on our headline-making Hanscom action\, and a quick crash 
 course in rhythm+musicality in chanting\, for our big action coming up on 
 April 26th.\n\n4:00 - 5:00  There will be both a new member orientation an
 d onboarding\, and space for Working Groups and Affinity Groups to have in
 -person meetings (including XR Boston's new Dance Affinity Group!).
LAST-MODIFIED:20250329T151328Z
LOCATION:Community Church of Boston\, 565 Boylston St\, Boston\, MA 02116
ORGANIZER;CN="Extinction Rebellion Boston":MAILTO:outreach@xrboston.org
URL:https://xrboston.org/action/april-general-meeting-2025/
END:VEVENT
END:VCALENDAR
