BEGIN:VCALENDAR
VERSION:2.0
PRODID:-//Extinction Rebellion Boston//Action//
BEGIN:VEVENT
SUMMARY:XR Arlington Affinity Group Gathering
DTSTART:20250406T170000Z
DTEND:20250406T190000Z
DTSTAMP:20260420T021834Z
UID:2051@https://xrboston.org
CREATED:20260420T021834Z
DESCRIPTION:Event details: https://xrboston.org/action/arlington-affinity-
 group-gathering-1/\n\nRebels living in Arlington\, Medford\, Belmont and W
 inchester\, please join the XR Arlington Affinity Group for our monthly po
 tluck and meeting. We will gather from 1 to 3pm at a local rebel's homes t
 o enjoy homemade vegan/vegetarian food and then discuss plans for organizi
 ng local events to raise awareness about the climate crisis. \n\nPlease RS
 VP and we will send you the address.
LAST-MODIFIED:20250323T200221Z
LOCATION:RSVP for the address
ORGANIZER;CN="Extinction Rebellion Boston":MAILTO:outreach@xrboston.org
URL:https://xrboston.org/action/arlington-affinity-group-gathering-1/
END:VEVENT
END:VCALENDAR
