BEGIN:VCALENDAR
VERSION:2.0
PRODID:-//Extinction Rebellion Boston//Action//
BEGIN:VEVENT
SUMMARY:Arlington Affinity Group Gathering
DTSTART:20250927T153000Z
DTEND:20250927T173000Z
DTSTAMP:20260421T225859Z
UID:2145@https://xrboston.org
CREATED:20260421T225859Z
DESCRIPTION:Event details: https://xrboston.org/action/arlington-affinity-
 group-gathering-10/\n\nXRlington\, the Extinction Rebellion Arlington Affi
 nity Group\, is having a gathering on Saturday\, August 30th from 11:30am 
 to pm at Mystic Open Studios in Arlington Center (right after our art buil
 d). All rebels from Arlington and neighboring communities are welcome to a
 ttend. We will have a vegan/vegetarian potluck followed by a meeting to pl
 an local actions focused on addressing the climate and ecological crisis a
 nd deterioration of our democracy.
LAST-MODIFIED:20250830T224731Z
LOCATION:Mystic Open Studios
ORGANIZER;CN="Extinction Rebellion Boston":MAILTO:outreach@xrboston.org
URL:https://xrboston.org/action/arlington-affinity-group-gathering-10/
END:VEVENT
END:VCALENDAR
