BEGIN:VCALENDAR
VERSION:2.0
PRODID:-//Extinction Rebellion Boston//Action//
BEGIN:VEVENT
SUMMARY:Arlington Affinity Group Gathering
DTSTART:20250830T153000Z
DTEND:20250830T173000Z
DTSTAMP:20260422T002623Z
UID:2137@https://xrboston.org
CREATED:20260422T002623Z
DESCRIPTION:Event details: https://xrboston.org/action/arlington-affinity-
 group-gathering-6/\n\nXRlington\, the Extinction Rebellion Arlington Affin
 ity Group\, is having a gathering on Saturday\, August 30th from 11:30am t
 o pm at Mystic Open Studios in Arlington Center (right after our art build
 ). All rebels from Arlington and neighboring communities are welcome to at
 tend. We will have a vegan/vegetarian potluck followed by a meeting to pla
 n local actions focused on addressing the climate and ecological crisis an
 d deterioration of our democracy.
LAST-MODIFIED:20250807T181125Z
LOCATION:Mystic Open Studios
ORGANIZER;CN="Extinction Rebellion Boston":MAILTO:outreach@xrboston.org
URL:https://xrboston.org/action/arlington-affinity-group-gathering-6/
END:VEVENT
END:VCALENDAR
