BEGIN:VCALENDAR
VERSION:2.0
PRODID:-//Extinction Rebellion Boston//Action//
BEGIN:VEVENT
SUMMARY:Arlington Affinity Group Gathering
DTSTART:20250309T170000Z
DTEND:20250309T190000Z
DTSTAMP:20260423T004821Z
UID:2030@https://xrboston.org
CREATED:20260423T004821Z
DESCRIPTION:Event details: https://xrboston.org/action/arlington-affinity-
 group-gathering2/\n\nIf you live in Arlington\, Medford\, Winchester\, or 
 Belmont\, join the Extinction Rebellion Arlington Affinity Group for a veg
 an/vegetarian potluck gathering and meeting. Connect with other climate ac
 tivists to help plan our next local activities and actions. We will meet f
 rom 1-3pm.\n\nPlease RSVP to get information about location.
LAST-MODIFIED:20250306T042141Z
LOCATION:
ORGANIZER;CN="Extinction Rebellion Boston":MAILTO:outreach@xrboston.org
URL:https://xrboston.org/action/arlington-affinity-group-gathering2/
END:VEVENT
END:VCALENDAR
