BEGIN:VCALENDAR
VERSION:2.0
PRODID:-//Extinction Rebellion Boston//Action//
BEGIN:VEVENT
SUMMARY:Arlington Affinity Group Second Gathering
DTSTART:20240414T160000Z
DTEND:20240414T180000Z
DTSTAMP:20260425T181342Z
UID:1760@https://xrboston.org
CREATED:20260425T181342Z
DESCRIPTION:Event details: https://xrboston.org/action/arlington-affinity-
 group-second-gathering/\n\nThe Arlington Affinity Group\, XArlington\, wil
 l be having our second (vegetarian/vegan) pot-luck and gathering. \n\nJoin
  us if you live in or near Arlington and want to get more involved in Exti
 nction Rebellion and help spread the XR message in our community. You are 
 also welcome to join us if you live in another town and are interested in 
 seeing how this affinity groups works and how you can form your own affini
 ty group in your neighborhood. \n\nPlease RSVP for the location.
LAST-MODIFIED:20240323T203727Z
LOCATION:RSVP for more information
ORGANIZER;CN="Extinction Rebellion Boston":MAILTO:outreach@xrboston.org
URL:https://xrboston.org/action/arlington-affinity-group-second-gathering/
END:VEVENT
END:VCALENDAR
