BEGIN:VCALENDAR
VERSION:2.0
PRODID:-//Extinction Rebellion Boston//Action//
BEGIN:VEVENT
SUMMARY:Arlington Mural Community Paint Day
DTSTART:20240811T180000Z
DTEND:20240811T200000Z
DTSTAMP:20260421T143527Z
UID:1863@https://xrboston.org
CREATED:20260421T143527Z
DESCRIPTION:Event details: https://xrboston.org/action/arlington-mural-com
 munity-paint-day5/\n\nHelp us paint a mural in Arlington!  Join the Art Wo
 rking Group and the Arlington Affinity Group for a mural community paint d
 ay on Sunday August 11th from 2-4pm.\n\nPainting spots are limited\, so cl
 aim yours here: [\nhttps://www.signupgenius.com/go/30E0E4BACAD28AAFD0-5057
 4054-arlington](\nhttps://www.signupgenius.com/go/30E0E4BACAD28AAFD0-50574
 054-arlington)\n\nWe can only accommodate eight painting volunteers in eac
 h shift\, so please have everyone who will be painting sign up individuall
 y.  We also ask that volunteers be rising high schoolers or older.\n\nWhat
  to bring for mural painting:\n\n* Clothes that can get paint on them!  We
  are using exterior latex paint and it doesn't wash out of clothing once d
 ried. \n\n* Water bottle! \n\n* Sun protection!  We recommend sunscreen an
 d a sunhat.
LAST-MODIFIED:20240806T151115Z
LOCATION:324 Massachusetts Avenue\, Arlington\, MA
ORGANIZER;CN="Extinction Rebellion Boston":MAILTO:outreach@xrboston.org
URL:https://xrboston.org/action/arlington-mural-community-paint-day5/
END:VEVENT
END:VCALENDAR
