BEGIN:VCALENDAR
VERSION:2.0
PRODID:-//Extinction Rebellion Boston//Action//
BEGIN:VEVENT
SUMMARY:Art Build for the Earth Day Rally at the Puppet Library
DTSTART:20230418T210000Z
DTEND:20230418T230000Z
DTSTAMP:20260421T120409Z
UID:1499@https://xrboston.org
CREATED:20260421T120409Z
DESCRIPTION:Event details: https://xrboston.org/action/art-build-4-earth-d
 ay-at-the-puppet-library/\n\nJoin us at the Puppet Free Library from 5pm t
 o 8pm as we make art for the Earth Day Rally!
LAST-MODIFIED:20230416T010757Z
LOCATION:Puppet Free Library
ORGANIZER;CN="Extinction Rebellion Boston":MAILTO:outreach@xrboston.org
URL:https://xrboston.org/action/art-build-4-earth-day-at-the-puppet-librar
 y/
END:VEVENT
END:VCALENDAR
