BEGIN:VCALENDAR
VERSION:2.0
PRODID:-//Extinction Rebellion Boston//Action//
BEGIN:VEVENT
SUMMARY:Art Build at Artisan's Asylum
DTSTART:20240203T180000Z
DTEND:20240203T200000Z
DTSTAMP:20260425T151931Z
UID:1725@https://xrboston.org
CREATED:20260425T151931Z
DESCRIPTION:Event details: https://xrboston.org/action/art-build-at-artisa
 ns-asylum-0203/\n\nDrop in and join us to work on art for upcoming Valenti
 ne's Day outreach events from 1 - 4pm!\n\nWe will supply the materials\, y
 ou bring your enthusiasm and love for our planet. Art skills not necessary
 !\n\nWhen you arrive at Artisan's Asylum (96 Holton St\, Boston)\, ring th
 e doorbell and someone from the front desk will let you in and get you in 
 touch with us!\n\nFeel free to wear a mask\, but they are not required. If
  you are feeling unwell\, please stay home and join us at a future art bui
 ld.
LAST-MODIFIED:20240128T222124Z
LOCATION:https://goo.gl/maps/13YhTFeJG1E9u7uZA
ORGANIZER;CN="Extinction Rebellion Boston":MAILTO:outreach@xrboston.org
URL:https://xrboston.org/action/art-build-at-artisans-asylum-0203/
END:VEVENT
END:VCALENDAR
