BEGIN:VCALENDAR
VERSION:2.0
PRODID:-//Extinction Rebellion Boston//Action//
BEGIN:VEVENT
SUMMARY:Art Build at Artisans Asylum
DTSTART:20231210T180000Z
DTEND:20231210T200000Z
DTSTAMP:20260425T121230Z
UID:1687@https://xrboston.org
CREATED:20260425T121230Z
DESCRIPTION:Event details: https://xrboston.org/action/art-build-at-artisa
 ns-asylum-1210/\n\nJoin us to work on art for the State House Stand-Out!\n
 \nWe will supply the materials\, you bring your enthusiasm and love for ou
 r planet. Art skills not necessary!\n\nWhen you arrive at Artisan's Asylum
  (96 Holton St\, Boston)\, ring the doorbell and someone from the front de
 sk will let you in and get you in touch with us!
LAST-MODIFIED:20231130T164745Z
LOCATION:https://goo.gl/maps/13YhTFeJG1E9u7uZA
ORGANIZER;CN="Extinction Rebellion Boston":MAILTO:outreach@xrboston.org
URL:https://xrboston.org/action/art-build-at-artisans-asylum-1210/
END:VEVENT
END:VCALENDAR
