BEGIN:VCALENDAR
VERSION:2.0
PRODID:-//Extinction Rebellion Boston//Action//
BEGIN:VEVENT
SUMMARY:Art Build for the HONK! for Our Future March
DTSTART:20211003T170000Z
DTEND:20211003T190000Z
DTSTAMP:20260421T090133Z
UID:924@https://xrboston.org
CREATED:20260421T090133Z
DESCRIPTION:Event details: https://xrboston.org/action/art-build-honk-our-
 future-protest/\n\nJoin XR Youth in this multi-generational Art Build. We 
 will be making signs for the HONK! For Our Future march (next week) as wel
 l as printing XR logos\, art\, and slogans on patches and t-shirts that yo
 u can take home with you and wear to future events (bring your own shirts 
 and clothes).\n\nThe Art Build will take place at 22 Elmhurst Rd\, Arlingt
 on\, on October 3rd\, from 1pm to 4pm. The event will be outside.
LAST-MODIFIED:20210929T023133Z
LOCATION:22 Elmhurst Rd\, Arlington Mass
ORGANIZER;CN="Extinction Rebellion Boston":MAILTO:outreach@xrboston.org
URL:https://xrboston.org/action/art-build-honk-our-future-protest/
END:VEVENT
END:VCALENDAR
