BEGIN:VCALENDAR
VERSION:2.0
PRODID:-//Extinction Rebellion Boston//Action//
BEGIN:VEVENT
SUMMARY:Art Build for our 10/30 "Calling Out Monster Banks" Protest
DTSTART:20251014T210000Z
DTEND:20251014T230000Z
DTSTAMP:20260421T212834Z
UID:2171@https://xrboston.org
CREATED:20260421T212834Z
DESCRIPTION:Event details: https://xrboston.org/action/art-build-oct14/\n\
 nDrop in on Tuesday\, October 14 between 5pm - 8pm to help make stuff for 
 the Thurs 10/30 ["Calling Out Monster Banks: Stop Funding Ecocide & Genoci
 de" protest](https://xrboston.org/action/fallaction2025/) (3pm).\n\nNo art
  expertise required. We'll supply the materials\, you supply yourself :).\
 n\nWe'll have some light snacks and lots of camaraderie!\n\nThe library ca
 n be warm. We recommend wearing layers and bringing water.\n\nBonus: get a
  tour of the library if you arrive before the librarian has left.\n\nNote:
  don't type the address into Apple maps\, it may send you to the wrong all
 ey!
LAST-MODIFIED:20251013T185428Z
LOCATION:Puppet Free Library\, 15 Public Alley 437 # 437\, Boston\, MA 021
 16
ORGANIZER;CN="Extinction Rebellion Boston":MAILTO:outreach@xrboston.org
URL:https://xrboston.org/action/art-build-oct14/
END:VEVENT
END:VCALENDAR
