BEGIN:VCALENDAR
VERSION:2.0
PRODID:-//Extinction Rebellion Boston//Action//
BEGIN:VEVENT
SUMMARY:Art Circle
DTSTART:20251120T000000Z
DTEND:20251120T020000Z
DTSTAMP:20260421T201037Z
UID:2184@https://xrboston.org
CREATED:20260421T201037Z
DESCRIPTION:Event details: https://xrboston.org/action/art-circle/\n\nJoin
  other rebels interested in art at this month's virtual Art Circle meeting
 .  \n\nWe want to hear about your past\, in progress\, or future art-relat
 ed XR projects.  Let's share what is working in different Affinity Groups 
 and find ways to collaborate\, offer advice\, and get new rebels involved.
 \n\nCome learn about: art kits for Affinity Groups\, plans for a pollinato
 r garden beneath the XR Arlington mural\, and more!\n\nWe will meet from 7
 -8pm.  RSVP for a Zoom link.
LAST-MODIFIED:20251111T161225Z
LOCATION:Zoom
ORGANIZER;CN="Extinction Rebellion Boston":MAILTO:outreach@xrboston.org
URL:https://xrboston.org/action/art-circle/
END:VEVENT
END:VCALENDAR
