BEGIN:VCALENDAR
VERSION:2.0
PRODID:-//Extinction Rebellion Boston//Action//
BEGIN:VEVENT
SUMMARY:Art Build for Calling Out Monster Banks
DTSTART:20251007T210000Z
DTEND:20251007T230000Z
DTSTAMP:20260421T212723Z
UID:2163@https://xrboston.org
CREATED:20260421T212723Z
DESCRIPTION:Event details: https://xrboston.org/action/artbuild-oct7/\n\nD
 rop in on Tuesday\, October 7 from 5pm - 8pm to help make stuff (tbd: perh
 aps tombstones\, signs\, banners) for the Thurs 10/30 "Calling Out Monster
  Banks: Stop Funding Ecocide & Genocide" action (3pm).\n\nNo art expertise
  required. We'll supply the materials\, you supply yourself :).\n\nWe'll h
 ave some light snacks and lots of camaraderie!\n\nThe library can be warm.
  We recommend wearing layers.\n\nBonus: get a tour of the library if you a
 rrive before the librarian has left.\n\nNote: don't type the address into 
 Apple maps\, it may send you to the wrong alley!
LAST-MODIFIED:20250924T223718Z
LOCATION:[Puppet Free Library\, 15 Public Alley 437 # 437\, Boston\, MA 02
 116](https://maps.app.goo.gl/ZcdxZZMrT2oR7ScW8)
ORGANIZER;CN="Extinction Rebellion Boston":MAILTO:outreach@xrboston.org
URL:https://xrboston.org/action/artbuild-oct7/
END:VEVENT
END:VCALENDAR
