BEGIN:VCALENDAR
VERSION:2.0
PRODID:-//Extinction Rebellion Boston//Action//
BEGIN:VEVENT
SUMMARY:Drop-In Tuesday Evening Art Build at the Puppet Free Library
DTSTART:20230425T210000Z
DTEND:20230425T230000Z
DTSTAMP:20260421T120241Z
UID:1507@https://xrboston.org
CREATED:20260421T120241Z
DESCRIPTION:Event details: https://xrboston.org/action/artbuild_apr252023/
 \n\nDrop in between 5pm and 8pm this Tues. at the Puppet Free Library in t
 he Back Bay and help make protest art for upcoming events with fellow rebe
 ls! We will supply the materials\, you bring your enthusiasm and love for 
 our planet (art skills not necessary!).
LAST-MODIFIED:20230422T162338Z
LOCATION:Puppet Free Library\, 15 Public Alley 437 # 437\, Boston\, MA 021
 16
ORGANIZER;CN="Extinction Rebellion Boston":MAILTO:outreach@xrboston.org
URL:https://xrboston.org/action/artbuild_apr252023/
END:VEVENT
END:VCALENDAR
