BEGIN:VCALENDAR
VERSION:2.0
PRODID:-//Extinction Rebellion Boston//Action//
BEGIN:VEVENT
SUMMARY:Awakening For Earth: Outdoor Meditation in Cambridge (Solidarity A
 ction)
DTSTART:20220710T200000Z
DTEND:20220710T220000Z
DTSTAMP:20260419T182554Z
UID:1222@https://xrboston.org
CREATED:20260419T182554Z
DESCRIPTION:Event details: https://xrboston.org/action/awakening-for-earth
 -meditation-cambridge/\n\nFrom [Awakening for Earth](awakeningforearth.com
 ): We are holding Sitting for Survival meditations in public spaces around
  Cambridge to bear witness to the climate emergency and in doing so\, stri
 ve to awaken others to see and take action.\n\n**Where**: Central Square P
 ost office\, 770 Massachusetts Ave\, Cambridge\, MA\n\n**When**: Every oth
 er Sunday from 4PM-5PM\n\n4-4:30 for Sitting Meditation\n\n4:30-5 Communit
 y building\n\nWe will sit distanced with signs that we will provide or you
  can bring your own. Please come masked!\n\n**Who We Are:**\nWe are spirit
 ual practitioners dedicated to facing the climate crisis with compassion a
 nd determination to engage in nonviolent direct action. We see climate jus
 tice within the framework of social justice and commit to advocating for p
 olicies that empower communities most impacted by climate change.\n\nRecog
 nizing the need for regeneration in this consuming effort\, we invite paus
 es to be in community\, to care for one another and nourish ourselves\, br
 inging the energy of love and understanding to sustain this demanding effo
 rt.\n\nSign up for our email list at awakeningforearth.com. If you have qu
 estions or are interested in getting more involved\, feel free to e-mail u
 s at awakeningforearth@gmail.com.
LAST-MODIFIED:20220703T152105Z
LOCATION:Central Square Post office\, 770 Massachusetts Ave\, Cambridge\, 
 MA
ORGANIZER;CN="Extinction Rebellion Boston":MAILTO:outreach@xrboston.org
URL:https://xrboston.org/action/awakening-for-earth-meditation-cambridge/
END:VEVENT
END:VCALENDAR
