BEGIN:VCALENDAR
VERSION:2.0
PRODID:-//Extinction Rebellion Boston//Action//
BEGIN:VEVENT
SUMMARY:Awakening For Earth: Outdoor Meditation in Cambridge (Solidarity A
 ction)
DTSTART:20220724T200000Z
DTEND:20220724T220000Z
DTSTAMP:20260419T182139Z
UID:1223@https://xrboston.org
CREATED:20260419T182139Z
DESCRIPTION:Event details: https://xrboston.org/action/awakening4earth-med
 itation/\n\nFrom [Awakening for Earth](awakeningforearth.com): We are hold
 ing Sitting for Survival meditations in public spaces around Cambridge to 
 bear witness to the climate emergency and in doing so\, strive to awaken o
 thers to see and take action.\n\n**Where**: Central Square Post office\, 7
 70 Massachusetts Ave\, Cambridge\, MA\n\n**When**: Every other Sunday from
  4PM-5PM\n\n4-4:30 for Sitting Meditation\n\n4:30-5 Community building\n\n
 We will sit distanced with signs that we will provide or you can bring you
 r own. Please come masked!\n\n**Who We Are:**\nWe are spiritual practition
 ers dedicated to facing the climate crisis with compassion and determinati
 on to engage in nonviolent direct action. We see climate justice within th
 e framework of social justice and commit to advocating for policies that e
 mpower communities most impacted by climate change.\n\nRecognizing the nee
 d for regeneration in this consuming effort\, we invite pauses to be in co
 mmunity\, to care for one another and nourish ourselves\, bringing the ene
 rgy of love and understanding to sustain this demanding effort.\n\nSign up
  for our email list at awakeningforearth.com. If you have questions or are
  interested in getting more involved\, feel free to e-mail us at awakening
 forearth@gmail.com.
LAST-MODIFIED:20220703T152052Z
LOCATION:Central Square Post office\, 770 Massachusetts Ave\, Cambridge\, 
 MA
ORGANIZER;CN="Extinction Rebellion Boston":MAILTO:outreach@xrboston.org
URL:https://xrboston.org/action/awakening4earth-meditation/
END:VEVENT
END:VCALENDAR
