BEGIN:VCALENDAR
VERSION:2.0
PRODID:-//Extinction Rebellion Boston//Action//
BEGIN:VEVENT
SUMMARY:Beers and Climate - Jamaica Plain
DTSTART:20240822T220000Z
DTEND:20240823T000000Z
DTSTAMP:20260426T001209Z
UID:1865@https://xrboston.org
CREATED:20260426T001209Z
DESCRIPTION:Event details: https://xrboston.org/action/beers-and-climate-0
 8-22-24/\n\nJoin for a casual get-together with the beverage of your choic
 e! Get to know fellow rebels\, learn more about XR Boston\, hear about upc
 oming actions\, and have some regenerative fun! \n\nWe will have stickers 
 and buttons! Hopefully even a flag!\n\nThis event is for seasoned rebels a
 nd new / curious folks alike! Can't wait to see you!
LAST-MODIFIED:20240816T010441Z
LOCATION:The Brendan Beehan Pub\, 378 Centre St\, Jamaica Plain\, MA 02130
ORGANIZER;CN="Extinction Rebellion Boston":MAILTO:outreach@xrboston.org
URL:https://xrboston.org/action/beers-and-climate-08-22-24/
END:VEVENT
END:VCALENDAR
