BEGIN:VCALENDAR
VERSION:2.0
PRODID:-//Extinction Rebellion Boston//Action//
BEGIN:VEVENT
SUMMARY:Beers and Climate Change
DTSTART:20220929T230000Z
DTEND:20220930T010000Z
DTSTAMP:20260421T054014Z
UID:1300@https://xrboston.org
CREATED:20260421T054014Z
DESCRIPTION:Event details: https://xrboston.org/action/beers-and-climate-c
 hange-2/\n\nIf you are curious who is behind extinction rebellion\, join u
 s for a casual get together at Aeronaut Brewery Somerville. \nAfter a long
  week of rebellion\, we will celebrate and reflect on the events of last w
 eek. Bring your friends and questions. \n\nMaybe we will also discuss how 
 the climate crisis will change the beer that we will have available in the
  future. See [this article](https://news.ncsu.edu/2020/08/climate-change-i
 s-changing-beer/) for some optional reading.
LAST-MODIFIED:20220925T220156Z
LOCATION:Aeronaut Somerville
ORGANIZER;CN="Extinction Rebellion Boston":MAILTO:outreach@xrboston.org
URL:https://xrboston.org/action/beers-and-climate-change-2/
END:VEVENT
END:VCALENDAR
