BEGIN:VCALENDAR
VERSION:2.0
PRODID:-//Extinction Rebellion Boston//Action//
BEGIN:VEVENT
SUMMARY:Beers and Climate Change
DTSTART:20230504T230000Z
DTEND:20230505T010000Z
DTSTAMP:20260421T233230Z
UID:1503@https://xrboston.org
CREATED:20260421T233230Z
DESCRIPTION:Event details: https://xrboston.org/action/beers-and-climate-c
 hange-east-boston/\n\nIf you are curious who is behind extinction rebellio
 n\, join us for a casual get together with the beverage of your choice. Th
 is a chance to get together with fellow rebels or to learn about Extinctio
 n Rebellion. It is a casual meeting to discuss the climate emergency\, upc
 oming actions and to have some regen fun.\n\nMaybe we will also discuss ho
 w the climate crisis is already changing our beer and its availability in 
 the future. See this [report for some optional reading](https://www.nbc15.
 com/2022/09/02/climate-change-brewing-trouble-beer-industry/).\n\nLook for
  us - we will have XR gear.
LAST-MODIFIED:20230503T014917Z
LOCATION:Eddie C's\, 34 Maverick Square\, East Boston
ORGANIZER;CN="Extinction Rebellion Boston":MAILTO:outreach@xrboston.org
URL:https://xrboston.org/action/beers-and-climate-change-east-boston/
END:VEVENT
END:VCALENDAR
