BEGIN:VCALENDAR
VERSION:2.0
PRODID:-//Extinction Rebellion Boston//Action//
BEGIN:VEVENT
SUMMARY:Ocean Warriorz Beers and Climate Change
DTSTART:20230705T230000Z
DTEND:20230706T010000Z
DTSTAMP:20260425T161011Z
UID:1548@https://xrboston.org
CREATED:20260425T161011Z
DESCRIPTION:Event details: https://xrboston.org/action/beers-and-climate-c
 hange-eastie/\n\nIf you are curious who is behind Extinction Rebellion\, j
 oin us for a casual get together in Eastie  with the beverage of your choi
 ce. This a chance to get together with fellow rebels or to learn about Ext
 inction Rebellion. It is a casual meeting to discuss the climate emergency
 \, upcoming actions and to have some regen fun.\n\nMaybe we will also disc
 uss how the climate crisis is already changing our beer and its availabili
 ty in the future. See this [report for some optional reading](https://www.
 nbc15.com/2022/09/02/climate-change-brewing-trouble-beer-industry/).\n\nLo
 ok for us - we will have XR gear.
LAST-MODIFIED:20230628T010547Z
LOCATION:The Quiet Few\, 331 Sumner Street\, East Boston
ORGANIZER;CN="Extinction Rebellion Boston":MAILTO:outreach@xrboston.org
URL:https://xrboston.org/action/beers-and-climate-change-eastie/
END:VEVENT
END:VCALENDAR
