BEGIN:VCALENDAR
VERSION:2.0
PRODID:-//Extinction Rebellion Boston//Action//
BEGIN:VEVENT
SUMMARY:Beers & Climate Change
DTSTART:20230411T223000Z
DTEND:20230412T003000Z
DTSTAMP:20260422T125648Z
UID:1478@https://xrboston.org
CREATED:20260422T125648Z
DESCRIPTION:Event details: https://xrboston.org/action/beers-climate-chang
 e-6/\n\nIf you are curious who is behind extinction rebellion\, join us fo
 r a casual get together with the beverage of your choice. This a chance to
  get together with fellow rebels or to learn about Extinction Rebellion. I
 t is a casual meeting to discuss the climate emergency\, upcoming actions 
 and to have some regen fun after caroling.\n\nMaybe we will also discuss h
 ow the climate crisis is already changing our beer and its availability in
  the future. See\n[this report for some optional reading](https://www.nbc1
 5.com/2022/09/02/climate-change-brewing-trouble-beer-industry/). \n\nLook 
 for us - we will have XR gear.
LAST-MODIFIED:20230321T134422Z
LOCATION:Aeronaut Brewing Company
ORGANIZER;CN="Extinction Rebellion Boston":MAILTO:outreach@xrboston.org
URL:https://xrboston.org/action/beers-climate-change-6/
END:VEVENT
END:VCALENDAR
