BEGIN:VCALENDAR
VERSION:2.0
PRODID:-//Extinction Rebellion Boston//Action//
BEGIN:VEVENT
SUMMARY:Beers and Climate Change with Camberville AG
DTSTART:20250420T220000Z
DTEND:20250421T000000Z
DTSTAMP:20260424T044507Z
UID:2065@https://xrboston.org
CREATED:20260424T044507Z
DESCRIPTION:Event details: https://xrboston.org/action/beers-climate-chang
 e-camberville-ag/\n\nJoin the Camberville AG on Sunday April 20th at[ Aero
 naut Brewing](https://www.aeronautbrewing.com/visit/somerville/) in Somerv
 ille at 6 pm! We'll have games to play and time to chat - feel free to bri
 ng your favorite games. If you get hungry\, there's a vegan-friendly\, ven
 ezuelan\, grab-and-go restaurant called [Carolicious](https://www.carolici
 ous.net/) inside. Afterwards\, rebels are welcome to join climbers next do
 or at [Bouldering Project](https://boulderingproject.com/location/somervil
 le/) - no experience or gear required.
LAST-MODIFIED:20250415T232015Z
LOCATION:14 Tyler Street\, Somerville\, MA 02143
ORGANIZER;CN="Extinction Rebellion Boston":MAILTO:outreach@xrboston.org
URL:https://xrboston.org/action/beers-climate-change-camberville-ag/
END:VEVENT
END:VCALENDAR
