BEGIN:VCALENDAR
VERSION:2.0
PRODID:-//Extinction Rebellion Boston//Action//
BEGIN:VEVENT
SUMMARY:Beers and Climate Change - Harvard Square
DTSTART:20230714T220000Z
DTEND:20230715T000000Z
DTSTAMP:20260425T160445Z
UID:1573@https://xrboston.org
CREATED:20260425T160445Z
DESCRIPTION:Event details: https://xrboston.org/action/beersjuly14/\n\nAre
  you worried about the climate emergency and curious who is behind Extinct
 ion Rebellion? Join us for a casual get together with the beverage of your
  choice! A fun and low-key way to meet fellow rebels\, learn more about XR
  Boston's upcoming actions\, restock on stickers and buttons\, and enjoy s
 ome good company!\n\nLook for us - we will have XR gear.\n\nIf the weather
  is good\, we'll be in the beer garden of Charlie's Kitchen. If it's raini
 ng\, look for us inside on the second floor.
LAST-MODIFIED:20230708T191448Z
LOCATION:Charlie's Kitchen Beer Garden\, 10 Elliot Street\, Cambridge MA
ORGANIZER;CN="Extinction Rebellion Boston":MAILTO:outreach@xrboston.org
URL:https://xrboston.org/action/beersjuly14/
END:VEVENT
END:VCALENDAR
