BEGIN:VCALENDAR
VERSION:2.0
PRODID:-//Extinction Rebellion Boston//Action//
BEGIN:VEVENT
SUMMARY:Book Discussion: Facing the Climate Emergency
DTSTART:20240807T223000Z
DTEND:20240808T003000Z
DTSTAMP:20260421T143356Z
UID:1838@https://xrboston.org
CREATED:20260421T143356Z
DESCRIPTION:Join online: <a href="https://us02web.zoom.us/meeting/register
 /tZErcemuqDsiHtfy8YxDfZMt3NS0McCBGL8N">https://us02web.zoom.us/meeting/reg
 ister/tZErcemuqDsiHtfy8YxDfZMt3NS0McCBGL8N</a>\n\nEvent details: <a href="
 https://xrboston.org/action/book-discussion-facing-the-climate-emergency/"
 >https://xrboston.org/action/book-discussion-facing-the-climate-emergency/
 </a>\n\nJoin us on Wednesday August 7 from 6:30 to 8 pm for a special disc
 ussion of the transformative book\, "Facing the Climate Emergency: How to 
 Transform Yourself with Climate Truth (Second Edition)." We will be joined
  by the book's author\, Margaret Klein Salamon\, for a Q&A over Zoom! If y
 ou need a copy of Facing the Climate Emergency\, please email: outreach@xr
 boston.org. If you would prefer to purchase a copy\, [you can find it here
 ](https://climateawakening.org/facing-the-climate-emergency-second-edition
 /).\n\nTogether we'll process our climate grief while we reflect on the th
 emes of the five chapters:\n\n    Step One: Face Climate Truth\n\n    Step
  Two: Welcome Fear\, Grief\, and Other Painful Feelings\n\n    Step Three:
  Reimagine Your Life Story\n\n    Step Four: Enter Emergency Mode\n\n    S
 tep Five: Join the Movement and Disrupt Normalcy\n\nWe'll also discuss wha
 t's next for the Climate Emergency Movement\, and share ideas for how you 
 can help others find -- and be transformed by -- this impactful book.\n\n-
 ::~:~::~:~:~:~:~:~:~:~:~:~:~:~:~:~:~:~:~:~:~:~:~:~:~:~:~:~:~:~:~:~:~:~:~:~
 :~:~::~:~::-\nDo not edit this section of the description.\n\nThis event h
 as a video call.\nJoin: https://us02web.zoom.us/meeting/register/tZErcemuq
 DsiHtfy8YxDfZMt3NS0McCBGL8N\n\nView your event at https://xrboston.org/act
 ion/book-discussion-facing-the-climate-emergency/\n-::~:~::~:~:~:~:~:~:~:~
 :~:~:~:~:~:~:~:~:~:~:~:~:~:~:~:~:~:~:~:~:~:~:~:~:~:~:~:~::~:~::-
LAST-MODIFIED:20240805T154935Z
LOCATION:Online event
ORGANIZER;CN="Extinction Rebellion Boston":MAILTO:outreach@xrboston.org
URL:https://xrboston.org/action/book-discussion-facing-the-climate-emergen
 cy/
END:VEVENT
END:VCALENDAR
