BEGIN:VCALENDAR
VERSION:2.0
PRODID:-//Extinction Rebellion Boston//Action//
BEGIN:VEVENT
SUMMARY:Boston Marathon Canvass! | ORGANIZE EVERYWHERE!
DTSTART:20220418T133000Z
DTEND:20220418T153000Z
DTSTAMP:20260420T204045Z
UID:1148@https://xrboston.org
CREATED:20260420T204045Z
DESCRIPTION:Event details: https://xrboston.org/action/boston-marathon-can
 vass-organize-everywhere/\n\nJoin XR Boston for some Boston Marathon canva
 ssing-action on Monday\, April 18th! \nWe will meet at Tatte Bakery & Cafe
  near Coolidge Corner at 9:30 AM for some pre-outreach sustenance & a quic
 k training\, and then we'll head out the door to canvass the masses! \n\nP
 lease join us if at all possible on this day\, as it will be one of our la
 st major opportunities to promote our *Freedom from Fossil Fuels Tour* bef
 ore Apr. 22nd! This morning & afternoon of canvassing will be decisive in 
 our push to 500 RSVPs for the April action.\n\nWe look forward to working 
 with you to promote Apr. 22nd and mobilize the Marathon masses to take cli
 mate justice action! (Please note backpacks are prohibited at the marathon
 .)
LAST-MODIFIED:20220416T090152Z
LOCATION:420 Harvard St\, Brookline\, MA 02446
ORGANIZER;CN="Extinction Rebellion Boston":MAILTO:outreach@xrboston.org
URL:https://xrboston.org/action/boston-marathon-canvass-organize-everywher
 e/
END:VEVENT
END:VCALENDAR
