BEGIN:VCALENDAR
VERSION:2.0
PRODID:-//Extinction Rebellion Boston//Action//
BEGIN:VEVENT
SUMMARY:Boston Red Rebel Brigade Orientation
DTSTART:20250409T230000Z
DTEND:20250410T010000Z
DTSTAMP:20260424T044319Z
UID:2056@https://xrboston.org
CREATED:20260424T044319Z
DESCRIPTION:Join online: <a href="https://us02web.zoom.us/meeting/register
 /vyQD8E8MQGOPXpE5zSgyxA">https://us02web.zoom.us/meeting/register/vyQD8E8M
 QGOPXpE5zSgyxA</a>\n\nEvent details: <a href="https://xrboston.org/action/
 boston-red-rebel-brigade-orientation/">https://xrboston.org/action/boston-
 red-rebel-brigade-orientation/</a>\n\nThe Boston Red Rebel Brigade is enli
 sting new members. Dressed in robes and veils of red\, we move slowly in s
 ilence. The Reds symbolize the common blood we share with all species\, al
 l that unifies us and makes us one. If you have never seen the Reds in act
 ion\, you can get a glimpse [here.](https://www.youtube.com/watch?v=6NLpRz
 OAUe8)\n\nJoin us for a 30 minunte to one-hour\, on-line workshop on Wedne
 sday April 9 at 7 pm. All are welcome - both people who want to process as
  a Red and people who are curious to learn more about us.\n\n[Register her
 e](https://us02web.zoom.us/meeting/register/vyQD8E8MQGOPXpE5zSgyxA) to rec
 eive the Zoom link.\n\nFor more information on the Boston Red Rebel Brigad
 e\, [visit our website.](http://redrebelsboston.org/)\n\n-::~:~::~:~:~:~:~
 :~:~:~:~:~:~:~:~:~:~:~:~:~:~:~:~:~:~:~:~:~:~:~:~:~:~:~:~:~:~:~::~:~::-\nDo
  not edit this section of the description.\n\nThis event has a video call.
 \nJoin: https://us02web.zoom.us/meeting/register/vyQD8E8MQGOPXpE5zSgyxA\n\
 nView your event at https://xrboston.org/action/boston-red-rebel-brigade-o
 rientation/\n-::~:~::~:~:~:~:~:~:~:~:~:~:~:~:~:~:~:~:~:~:~:~:~:~:~:~:~:~:~
 :~:~:~:~:~:~:~:~:~::~:~::-
LAST-MODIFIED:20250401T001737Z
LOCATION:Online event
ORGANIZER;CN="Extinction Rebellion Boston":MAILTO:outreach@xrboston.org
URL:https://xrboston.org/action/boston-red-rebel-brigade-orientation/
END:VEVENT
END:VCALENDAR
