BEGIN:VCALENDAR
VERSION:2.0
PRODID:-//Extinction Rebellion Boston//Action//
BEGIN:VEVENT
SUMMARY:(SOLIDARITY) Boston's Labor Day Parade: Workers Over Billionaires
DTSTART:20250901T133000Z
DTEND:20250901T153000Z
DTSTAMP:20260421T230124Z
UID:2143@https://xrboston.org
CREATED:20260421T230124Z
DESCRIPTION:Event details: https://xrboston.org/action/bostons-labor-day-p
 arade--solidarity/\n\nJoin your fellow XR Boston rebels in marching in the
  first Boston Labor Day Parade. We will meet at the Brewer Fountain at 9:3
 0am. Look for the XR flags. Feel free to being your own XR flags or signs.
  \n\nHere is the event description from the organizers:\n\n🎉 Be Part of
  History and Join Boston’s First Labor Day Parade! 🚶‍♀️✊ The 
 Greater Boston Labor Council is making history with Boston’s first-ever 
 Labor Day Parade! YOU’RE invited to march with us! 💥\n\nWe’ll follo
 w a powerful route that honors the victories of the past 🔨 and energize
 s the movement we’re building today 💪. This isn’t just a parade\, i
 t’s a statement\, a celebration\, and a call to action. 📣\n\n🔥 You
  don’t want to miss this. 🔥\n\nHere is the [official event website](h
 ttps://www.mobilize.us/mayday/event/820378/)
LAST-MODIFIED:20250830T222653Z
LOCATION:Brewer Fountain Plaza
ORGANIZER;CN="Extinction Rebellion Boston":MAILTO:outreach@xrboston.org
URL:https://xrboston.org/action/bostons-labor-day-parade--solidarity/
END:VEVENT
END:VCALENDAR
