BEGIN:VCALENDAR
VERSION:2.0
PRODID:-//Extinction Rebellion Boston//Action//
BEGIN:VEVENT
SUMMARY:Bourne Bridge Labor Day Standout - TIME CHANGE
DTSTART:20250829T150000Z
DTEND:20250829T170000Z
DTSTAMP:20260422T003024Z
UID:2136@https://xrboston.org
CREATED:20260422T003024Z
DESCRIPTION:Event details: https://xrboston.org/action/bourne-bridge-labor
 -day-standout-25/\n\n### The start time of this event has changed to 11AM!
 \n\nEvery Labor Day Weekend the traffic heading into Cape Cod brings the e
 ntrance to the Cape at Bourne Bridge to a halt. Thousands of people in the
 ir cars sit in idling traffic heading to their vacation weekend on one of 
 the country's most vulnerable geographical areas to the effects of climate
  change. This is a great opportunity to get some outreach to the thousands
  of people that have nothing else do while they idle but hear our call. Le
 t's give them some entertainment and alert them to the fragility of the be
 ach areas we know and love and want to protect.\n\n**For parking: it's bes
 t to park near the Cape Cod Veterinary Specialists building in the back of
  the bridge. 11 Bourne Bridge Approach\, Buzzards Bay\, MA 02532. **We wil
 l then walk up the path in the back towards the bridge and turn left on th
 e berm of the road.\n\nThe Red Rebels will be walking the length of the br
 idge. While they process we will stand on the grassy side area of the brid
 ge with signs and art and visuals to alert people to the effects of the cl
 imate crisis on the fragile Cape.\n\nAfter the bridge portion\, the reds w
 ill go to Chapoquoit Beach in Falmouth to process in front of folks on the
  beach which any and all participants are welcome to join (and go for a sw
 im!)\n\nIf you would like to participate as a Red Rebel\, please email red
 rebelsboston@gmail.com\nIf you would like to participate in the bridge or 
 beach portion as a banner holder/supporter\, sign up here!\n\nRSVP on this
  page if you are joining the event.\n\nWhat to bring: Flags! Signs! Art! S
 unscreen! Yourself!
LAST-MODIFIED:20250818T141351Z
LOCATION:11 Bourne Bridge Approach\, Buzzards Bay\, MA 02532
ORGANIZER;CN="Extinction Rebellion Boston":MAILTO:outreach@xrboston.org
URL:https://xrboston.org/action/bourne-bridge-labor-day-standout-25/
END:VEVENT
END:VCALENDAR
