BEGIN:VCALENDAR
VERSION:2.0
PRODID:-//Extinction Rebellion Boston//Action//
BEGIN:VEVENT
SUMMARY:Buy Nothing Day - Malden/Melrose/Wakefield Affinity Group
DTSTART:20241012T160000Z
DTEND:20241012T180000Z
DTSTAMP:20260425T164726Z
UID:1916@https://xrboston.org
CREATED:20260425T164726Z
DESCRIPTION:Event details: https://xrboston.org/action/buy-nothing-day-fel
 ls-affinity-group/\n\nFall is a time when many of us get ready for the hol
 iday season! Whether you're looking to refresh your Halloween decorations\
 , for a new winter craft hobby\, or for a holiday gift\, don't buy: swap! 
 \n\nThe Malden/Melrose/Wakefield Affinity group (a.k.a. 'XR Rebels of the 
 Fells') will meet on Wakefield Common from 12 noon from 2 PM. Bring someth
 ing you no longer need\, take something new to you home instead!\n\nRain d
 ate: Sunday October 13th noon to 2 PM.
LAST-MODIFIED:20240925T174821Z
LOCATION:[Wakefield Common](https://maps.app.goo.gl/tooMr1kPnpLzUstQ6)
ORGANIZER;CN="Extinction Rebellion Boston":MAILTO:outreach@xrboston.org
URL:https://xrboston.org/action/buy-nothing-day-fells-affinity-group/
END:VEVENT
END:VCALENDAR
