BEGIN:VCALENDAR
VERSION:2.0
PRODID:-//Extinction Rebellion Boston//Action//
BEGIN:VEVENT
SUMMARY:Buy Nothing Day Party
DTSTART:20231125T000000Z
DTEND:20231125T020000Z
DTSTAMP:20260425T104944Z
UID:1663@https://xrboston.org
CREATED:20260425T104944Z
DESCRIPTION:Event details: https://xrboston.org/action/buy-nothing-day-par
 ty/\n\nCelebrate Buy Nothing Day with a dance party and free stuff swap! 7
 :00 - 9:00 PM!\n\nBuy Nothing Day falls on the Friday after Thanksgiving (
 just like that *other* day). Instead of celebrating gross consumerism\, ce
 lebrate sustainability and community!\n\nBring items you don't need\, but 
 think others might appreciate...Clothes! Art! Puzzles! Antique Surgical To
 ols! We'll have folding tables to display them on. Then\, browse and socia
 lize and dance.\n\nThere will be free snacks and drinks.\n\nPlease take yo
 ur leftover items when you leave! Anything left over will be processed for
  donations or recycling\, but if you can keep from overloading our capacit
 y\, that would be much appreciated.
LAST-MODIFIED:20231122T223308Z
LOCATION:Calvary Church Arlington\, 300 Massachusetts Ave\, Arlington\, MA
  02474
ORGANIZER;CN="Extinction Rebellion Boston":MAILTO:outreach@xrboston.org
URL:https://xrboston.org/action/buy-nothing-day-party/
END:VEVENT
END:VCALENDAR
