BEGIN:VCALENDAR
VERSION:2.0
PRODID:-//Extinction Rebellion Boston//Action//
BEGIN:VEVENT
SUMMARY:Camberville Affinity Group
DTSTART:20260302T233000Z
DTEND:20260303T013000Z
DTSTAMP:20260421T140757Z
UID:2218@https://xrboston.org
CREATED:20260421T140757Z
DESCRIPTION:Event details: https://xrboston.org/action/camberville-affinit
 y-group/\n\nWhether you live in Somerville\, Cambridge\, or nearby towns\,
  all are welcome to the Camberville Affinity Group's monthly meeting!\n\nW
 e'll spend the first 30 minutes socializing\, and the remaining 1.5 hours 
 planning actions and community-based events. Feel free to bring vegan snac
 ks/beverages to share!
LAST-MODIFIED:20260303T223909Z
LOCATION:Rebel's House. Will be emailed prior to meeting
ORGANIZER;CN="Extinction Rebellion Boston":MAILTO:outreach@xrboston.org
URL:https://xrboston.org/action/camberville-affinity-group/
END:VEVENT
END:VCALENDAR
