BEGIN:VCALENDAR
VERSION:2.0
PRODID:-//Extinction Rebellion Boston//Action//
BEGIN:VEVENT
SUMMARY:Camberville Affinity Group Meeting
DTSTART:20251006T223000Z
DTEND:20251007T003000Z
DTSTAMP:20260421T213016Z
UID:2162@https://xrboston.org
CREATED:20260421T213016Z
DESCRIPTION:Event details: https://xrboston.org/action/camberville-affinit
 y-group-meeting1/\n\nJoin us at 6:30 pm in Somerville for our next affinit
 y group meeting! Event organizers will send out an email to RSVPs with the
  exact address closer to the event. We'll spend the first 30 minutes socia
 lizing\, then 30 minutes  planning actions and community-based events\, an
 d finally the last hour will be run by the book/resource club where we wil
 l watch and discuss a movie. Please bring vegan snacks and beverages to sh
 are!
LAST-MODIFIED:20250923T202622Z
LOCATION:Somerville apartment\, address will be emailed to RSVPs
ORGANIZER;CN="Extinction Rebellion Boston":MAILTO:outreach@xrboston.org
URL:https://xrboston.org/action/camberville-affinity-group-meeting1/
END:VEVENT
END:VCALENDAR
