BEGIN:VCALENDAR
VERSION:2.0
PRODID:-//Extinction Rebellion Boston//Action//
BEGIN:VEVENT
SUMMARY:Camberville Affinity Group Meeting
DTSTART:20251103T233000Z
DTEND:20251104T013000Z
DTSTAMP:20260421T201437Z
UID:2178@https://xrboston.org
CREATED:20260421T201437Z
DESCRIPTION:Event details: https://xrboston.org/action/camberville-affinit
 y-group-meetingnovember/\n\nJoin us at 6:30 pm in Somerville for our next 
 affinity group meeting! Event organizers will send out an email to RSVPs w
 ith the exact address closer to the event. We'll spend the first 30 minute
 s socializing\, then 30 minutes planning actions and community-based event
 s\, and finally the last hour will be run by the book/resource club where 
 we will watch and discuss a movie. Please bring vegan snacks and beverages
  to share!
LAST-MODIFIED:20251022T211935Z
LOCATION:Somerville apartment\, address will be emailed to RSVPs
ORGANIZER;CN="Extinction Rebellion Boston":MAILTO:outreach@xrboston.org
URL:https://xrboston.org/action/camberville-affinity-group-meetingnovember
 /
END:VEVENT
END:VCALENDAR
