BEGIN:VCALENDAR
VERSION:2.0
PRODID:-//Extinction Rebellion Boston//Action//
BEGIN:VEVENT
SUMMARY:Camberville Affinity Group Monthly Meeting
DTSTART:20251201T233000Z
DTEND:20251202T013000Z
DTSTAMP:20260421T185754Z
UID:2191@https://xrboston.org
CREATED:20260421T185754Z
DESCRIPTION:Event details: https://xrboston.org/action/camberville-affinit
 y-group-monthly-meeting-12-2025/\n\nWhether you live in Somerville\, Cambr
 idge\, or nearby towns\, all are welcome to the Camberville Affinity Group
 's monthly meeting!\n\nWe'll spend the first 30 minutes socializing\, and 
 the remaining 1.5 hours planning actions and community-based events. Feel 
 free to bring vegan snacks/beverages to share!
LAST-MODIFIED:20251202T223112Z
LOCATION:At a rebel's home in West Medford...address will be sent to those
  who RSVP
ORGANIZER;CN="Extinction Rebellion Boston":MAILTO:outreach@xrboston.org
URL:https://xrboston.org/action/camberville-affinity-group-monthly-meeting
 -12-2025/
END:VEVENT
END:VCALENDAR
