BEGIN:VCALENDAR
VERSION:2.0
PRODID:-//Extinction Rebellion Boston//Action//
BEGIN:VEVENT
SUMMARY:Camberville Affinity Group Monthly Meeting
DTSTART:20260202T233000Z
DTEND:20260203T013000Z
DTSTAMP:20260421T153908Z
UID:2212@https://xrboston.org
CREATED:20260421T153908Z
DESCRIPTION:Event details: https://xrboston.org/action/camberville-affinit
 y-group-monthly-meeting-2026-2/\n\nWhether you live in Somerville\, Cambri
 dge\, or nearby towns\, all are welcome to the Camberville Affinity Group'
 s monthly meeting!\n\nWe'll spend the first 30 minutes socializing\, and t
 he remaining 1.5 hours planning actions and community-based events. Feel f
 ree to bring vegan snacks/beverages to share!
LAST-MODIFIED:20260203T223320Z
LOCATION:At a rebel's house near Ball Square. Will be sent out via email b
 efore event
ORGANIZER;CN="Extinction Rebellion Boston":MAILTO:outreach@xrboston.org
URL:https://xrboston.org/action/camberville-affinity-group-monthly-meeting
 -2026-2/
END:VEVENT
END:VCALENDAR
