BEGIN:VCALENDAR
VERSION:2.0
PRODID:-//Extinction Rebellion Boston//Action//
BEGIN:VEVENT
SUMMARY:Camberville Affinity Group's Book/Resource Club Part 2: Parable of
  the Sower
DTSTART:20250925T000000Z
DTEND:20250925T020000Z
DTSTAMP:20260421T230144Z
UID:2161@https://xrboston.org
CREATED:20260421T230144Z
DESCRIPTION:Event details: https://xrboston.org/action/camberville-affinit
 y-groups-bookresource-club/\n\nJoin the Camberville Affinity Group's book/
 resource club for our second meeting\, after the genreal meeting on Wednes
 day September 24th\, where we will discuss Parable of the Sower by Octavia
  Butler. All are welcome! Be sure to RSVP to get the location.\n\nParable 
 of the Sower is a 1993 speculative fiction novel by American writer Octavi
 a E. Butler. It is set in a post-apocalyptic Earth heavily affected by cli
 mate change and social inequality. The novel follows Lauren Olamina\, a yo
 ung woman who can feel the pain of others and becomes displaced from her h
 ome. Several characters from various walks of life join her on her journey
  north and learn of a religion she has envisioned and titled Earthseed. Th
 e main tenets of Earthseed are that "God is Change" and believers can "sha
 pe God" through conscious effort to influence the changes around them. Ear
 thseed also teaches that it is humanity's destiny to inhabit other planets
  and spread the "seeds" of the Earth.\n\nParable of the Sower was the winn
 er of multiple awards\, including the 1994 New York Times Notable Book of 
 the Year\, and has been adapted into an opera and a graphic novel. Parable
  of the Sower has influenced music and essays on social justice as well as
  climate change. In 2021\, it was picked by readers of the New York Times 
 as the top science fiction nomination for the best book of the last 125 ye
 ars.
LAST-MODIFIED:20250923T202219Z
LOCATION:[Boston Common\, at the corner of Charles Street and Beacon Stree
 t](https://www.google.com/maps/dir//42.3556309\,-71.068461/@42.3547078\,-7
 1.0685934\,17.28z/data=!4m2!4m1!3e3)
ORGANIZER;CN="Extinction Rebellion Boston":MAILTO:outreach@xrboston.org
URL:https://xrboston.org/action/camberville-affinity-groups-bookresource-c
 lub/
END:VEVENT
END:VCALENDAR
