BEGIN:VCALENDAR
VERSION:2.0
PRODID:-//Extinction Rebellion Boston//Action//
BEGIN:VEVENT
SUMMARY:Camberville Friendsgiving Potluck
DTSTART:20251123T223000Z
DTEND:20251124T003000Z
DTSTAMP:20260421T201339Z
UID:2189@https://xrboston.org
CREATED:20260421T201339Z
DESCRIPTION:Event details: https://xrboston.org/action/camberville-friends
 giving-potluck/\n\nJoin the Camberville Affinity Group for a chill social 
 Friendsgiving potluck! \n\nIt will be held at a rebel's home in Somerville
 \, near Inman Square. Address will be sent to those who RSVPed. There are 
 cats\, for those with allergies.\n\nFeel free to arrive at 5:30 to help wi
 th cooking\, before eating and hanging out until 9:00. No dietary restrict
 ions\, but keep in mind many folks there will be vegan.
LAST-MODIFIED:20251119T201856Z
LOCATION:At a rebel's house in Somerville near Inman Square...address will
  be sent to those who RSVPed
ORGANIZER;CN="Extinction Rebellion Boston":MAILTO:outreach@xrboston.org
URL:https://xrboston.org/action/camberville-friendsgiving-potluck/
END:VEVENT
END:VCALENDAR
