BEGIN:VCALENDAR
VERSION:2.0
PRODID:-//Extinction Rebellion Boston//Action//
BEGIN:VEVENT
SUMMARY:Camberville Game Night
DTSTART:20260425T210000Z
DTEND:20260425T230000Z
DTSTAMP:20260423T004857Z
UID:2268@https://xrboston.org
CREATED:20260423T004857Z
DESCRIPTION:Event details: https://xrboston.org/action/camberville-game-ni
 ght/\n\nJoin XR's Camberville Affinity Group for an board game night at Ae
 ronaut Brewery 5pm - 8pm. We'll provide some games\, but feel free to brin
 g your favorites. Newcomers welcome!
LAST-MODIFIED:20260422T212842Z
LOCATION:Aeronaut Brewery\, 14 Tyler St\, Somerville\, MA 02143
ORGANIZER;CN="Extinction Rebellion Boston":MAILTO:outreach@xrboston.org
URL:https://xrboston.org/action/camberville-game-night/
END:VEVENT
END:VCALENDAR
