BEGIN:VCALENDAR
VERSION:2.0
PRODID:-//Extinction Rebellion Boston//Action//
BEGIN:VEVENT
SUMMARY:Camberville Seedbomb Making
DTSTART:20251016T230000Z
DTEND:20251017T010000Z
DTSTAMP:20260421T213000Z
UID:2169@https://xrboston.org
CREATED:20260421T213000Z
DESCRIPTION:Event details: https://xrboston.org/action/camberville-seedbom
 b-making/\n\nWe are going to be preparing seedbombs. If you haven’t hear
 d of this quirky\, yet effective way of planting seeds\, then allow me to 
 introduce you. Seed bombs are tiny balls\, about the size of almond m&m’
 s\, made of soil/compost\, clay\, and seeds. The clay and dirt protect see
 ds from erosion and hungry animals until the weather is just right. When t
 he spring rains come\, the seeds will use their soil homes to grow roots a
 nd sprout. When they break open the balls\, the roots grow towards the soi
 l floor\, their new home.\n\nWe will be making these in a camberville home
  so RSVP for the address which will be sent out right before the event. At
  the event we will also be deciding when we want to have the seedbomb walk
 .
LAST-MODIFIED:20251008T154801Z
LOCATION:
ORGANIZER;CN="Extinction Rebellion Boston":MAILTO:outreach@xrboston.org
URL:https://xrboston.org/action/camberville-seedbomb-making/
END:VEVENT
END:VCALENDAR
