BEGIN:VCALENDAR
VERSION:2.0
PRODID:-//Extinction Rebellion Boston//Action//
BEGIN:VEVENT
SUMMARY:Camberville Seedbombing
DTSTART:20251029T213000Z
DTEND:20251029T233000Z
DTSTAMP:20260421T213113Z
UID:2179@https://xrboston.org
CREATED:20260421T213113Z
DESCRIPTION:Event details: https://xrboston.org/action/camberville-seedbom
 bing2/\n\nJoin us for a walk around the neighborhood to spread seedbombs w
 ith local native wildflowers. This event is a great opportunity to connect
  with fellow rebels\, and explore your neighborhood from a new perspective
 \, while making a positive impact on our community.\n\nDuring the walk\, w
 e will be distributing seedbombs made from natural materials (clay\, soil\
 , and wildflower seeds). These seedbombs are designed to be easy to use an
 d can be thrown into areas where we would like to see some greenery grow. 
 The wildflower seeds will attract pollinators such as bees and butterflies
 \, helping to support local biodiversity. \n\nWe will provide the seedbomb
 s and information on how to use them. We hope to see you there!
LAST-MODIFIED:20251029T012812Z
LOCATION:Magoun Square T stop at Lowell Street Enterance
ORGANIZER;CN="Extinction Rebellion Boston":MAILTO:outreach@xrboston.org
URL:https://xrboston.org/action/camberville-seedbombing2/
END:VEVENT
END:VCALENDAR
