BEGIN:VCALENDAR
VERSION:2.0
PRODID:-//Extinction Rebellion Boston//Action//
BEGIN:VEVENT
SUMMARY:Cape Cod Climate Emergency Spectacular
DTSTART:20200904T140000Z
DTEND:20200904T160000Z
DTSTAMP:20260421T162659Z
UID:500@https://xrboston.org
CREATED:20260421T162659Z
DESCRIPTION:Event details: https://xrboston.org/action/cape_cod_bourne_bri
 dge/\n\nXR is organizing a Climate Emergency Action next to Cape Cod’s B
 ourne Bridge over the Cape Cod Canal. It will be on the Friday afternoon o
 f Labor Day weekend\, Sept 4. As the traditional slow parade of cars - bac
 ked up for miles  - makes its way across the bridge for the holiday weeken
 d\, we'll be there with puppets\, banners\, and handouts reminding passeng
 ers of how environmentally fragile the Cape that they love is. We hope to 
 have an appearance from our esteemed Red Rebel Brigade!\n\nWe will *not* b
 e blocking or disrupting traffic (it's already backed up forever!) and the
  goal of this action is about raising awareness and connecting with people
 . If we aren't able to stay in our preferred location we have alternate lo
 cations (including the option of taking this to a beach!). \n\nThe time wi
 ll run from 10am through mid afternoon. You can come when it is possible f
 or you. Please bring a lunch and water as nearby options are limited. \n\n
 If you would like to join the Red Rebel Brigade to participate in this act
 ion or future actions please email marrb@protonmail.com.\n\nPlease registe
 r if you are coming so we can send you more details about logistics and pl
 anning! If you're interested in having another role for this action (puppe
 t holder\, costume\, police liason\, marshall\, etc)\, we will send out a 
 follow up email to people registered.\n\n**Location**\n\nNORTH: For those 
 coming from North\, meet at the end of the Bourne Bridge Approach road\, p
 ast the Eastern Inn at 6 Bridge \nApproach St\, Buzzards Bay\, MA 02532\n\
 nCAPE: Cape Side Convenience Store (105 Trowbridge Rd\, Buzzards Bay\, 0
 2532)
LAST-MODIFIED:20200901T115937Z
LOCATION:Bourne Bridge (see event for details)
ORGANIZER;CN="Extinction Rebellion Boston":MAILTO:outreach@xrboston.org
URL:https://xrboston.org/action/cape_cod_bourne_bridge/
END:VEVENT
END:VCALENDAR
