BEGIN:VCALENDAR
VERSION:2.0
PRODID:-//Extinction Rebellion Boston//Action//
BEGIN:VEVENT
SUMMARY:Chase Bank Mother's Day Protest
DTSTART:20260508T193000Z
DTEND:20260508T213000Z
DTSTAMP:20260425T022035Z
UID:2266@https://xrboston.org
CREATED:20260425T022035Z
DESCRIPTION:Event details: https://xrboston.org/action/chase-bank-mothers-
 day-protest/\n\nJoin the Chase Bank Mother's Day Protest\non the Friday BE
 FORE Mothers Day (5/8)\n\n3:30-5:30\n\n425 Washington Ave.\nThis is the Ch
 ase Bank Downtown Crossing branch\n\nDowntown Crossing T station - both or
 ange and red lines stop here \nPark St. T station is one block away\n\nWe 
 will stand outside Chase Bank holding 25 coffins for babies stenciled with
  the identical words:  "This Bank Kills Kids".  \n\n\nWe also need people 
 to pass out flyers and hold signs reminding people that Chase is the #1 Am
 erican bank funder of fossil fuel projects\n\n\n“You say you love your c
 hildren above all else\, and yet you are stealing their future in front of
  their very eyes.”     	     \n-Greta Thunberg \,  2018 speech to the UN
 \n\n\n\nHonor Mother’s Day by not killing kids.
LAST-MODIFIED:20260422T031004Z
LOCATION:425 Washington Ave\, Boston
ORGANIZER;CN="Extinction Rebellion Boston":MAILTO:outreach@xrboston.org
URL:https://xrboston.org/action/chase-bank-mothers-day-protest/
END:VEVENT
END:VCALENDAR
